BEGIN:VCALENDAR
VERSION:2.0
PRODID:-//https://radiomemory.gr///NONSGML kigkonsult.se iCalcreator 2.10.15//
METHOD:PUBLISH
BEGIN:VEVENT
UID:20260422T205546UTC-3501xZTN9N@https://radiomemory.gr/
DTSTAMP:20260422T205546Z
DESCRIPTION: https://radiomemory.gr/events/event/1958-4i-earini-xorodiaki-s
 ynantisi
DTSTART:20260425T163000Z
DTEND:20260425T193000Z
LOCATION:Δημοτικό Θέατρο Λαμίας (Ομήρου 1\, Λαμία 351 00\, Ελλάδα)
SUMMARY:4η Εαρινή Χορωδιακή Συνάντηση
URL:https://radiomemory.gr/events/event/1958-4i-earini-xorodiaki-synantisi
END:VEVENT
END:VCALENDAR
