BEGIN:VCALENDAR
VERSION:2.0
PRODID:-//https://radiomemory.gr///NONSGML kigkonsult.se iCalcreator 2.10.15//
METHOD:PUBLISH
BEGIN:VEVENT
UID:20260422T011347UTC-14019ESH3i@https://radiomemory.gr/
DTSTAMP:20260422T011347Z
DESCRIPTION: https://radiomemory.gr/events/imerologio-ekdiloseon/event/1831
 -imerida-me-thema-tsipouro-i-tsikoudia
DTSTART:20231118T153000Z
DTEND:20231118T190000Z
LOCATION:Κτήμα Κλέτσα (Εθνική Οδός Άμφισσας Μπράλου\, Δελφοί 330 57\, Ελλάδ
 α)
SUMMARY:Ημερίδα με θέμα:'Τσίπουρο ή Τσικουδιά' 
URL:https://radiomemory.gr/events/imerologio-ekdiloseon/event/1831-imerida-
 me-thema-tsipouro-i-tsikoudia
END:VEVENT
END:VCALENDAR
