BEGIN:VCALENDAR
VERSION:2.0
PRODID:-//https://radiomemory.gr///NONSGML kigkonsult.se iCalcreator 2.10.15//
METHOD:PUBLISH
BEGIN:VEVENT
UID:20260422T012620UTC-3219XX6KVx@https://radiomemory.gr/
DTSTAMP:20260422T012620Z
DESCRIPTION: https://radiomemory.gr/events/imerologio-ekdiloseon/event/1832
 -arxaiologiko-programma-melap-2023
DTSTART:20231118T160000Z
DTEND:20231118T200000Z
LOCATION:Δομοκός Φθιώτιδας (Unnamed Road\, Δομοκός 350 10\, Ελλάδα)
SUMMARY:Αρχαιολογικό Πρόγραμμα MELAP 2023
URL:https://radiomemory.gr/events/imerologio-ekdiloseon/event/1832-arxaiolo
 giko-programma-melap-2023
END:VEVENT
END:VCALENDAR
