BEGIN:VCALENDAR
VERSION:2.0
PRODID:-//https://radiomemory.gr///NONSGML kigkonsult.se iCalcreator 2.10.15//
METHOD:PUBLISH
BEGIN:VEVENT
UID:20260422T013326UTC-69677XeuwX@https://radiomemory.gr/
DTSTAMP:20260422T013326Z
DESCRIPTION: https://radiomemory.gr/events/imerologio-ekdiloseon/event/1835
 -10i-giorti-skakioy-mousikis-mathimatikon-astronomias
DTSTART:20231126T073000Z
DTEND:20231126T110000Z
LOCATION:12 Δημοτικό σχολείο Λαμίας (Αμπλιανίτη 31\, Λαμία 351 00\, Ελλάδα)
SUMMARY:10η Γιορτή Σκακιού\, Μουσικής\, Μαθηματικών & Αστρονομίας
URL:https://radiomemory.gr/events/imerologio-ekdiloseon/event/1835-10i-gior
 ti-skakioy-mousikis-mathimatikon-astronomias
END:VEVENT
END:VCALENDAR
