BEGIN:VCALENDAR
VERSION:2.0
PRODID:-//https://radiomemory.gr///NONSGML kigkonsult.se iCalcreator 2.10.15//
METHOD:PUBLISH
BEGIN:VEVENT
UID:20260421T202350UTC-9934xsWN6v@https://radiomemory.gr/
DTSTAMP:20260421T202350Z
DESCRIPTION: https://radiomemory.gr/events/imerologio-ekdiloseon/event/1843
 -enimerotiki-ekdilosi-tou-programmatos-antagonistikotita-2021-2027
DTSTART:20240219T160000Z
DTEND:20240219T190000Z
LOCATION:Πολιτιστικό Κέντρο Δήμου Λαμιέων (Λεωνίδου 9\, Λαμία 351 00\, Ελλά
 δα)
SUMMARY:Ενημερωτική Εκδήλωση του Προγράμματος 'Ανταγωνιστικότητα 2021-2027'
URL:https://radiomemory.gr/events/imerologio-ekdiloseon/event/1843-enimerot
 iki-ekdilosi-tou-programmatos-antagonistikotita-2021-2027
END:VEVENT
END:VCALENDAR
