BEGIN:VCALENDAR
VERSION:2.0
PRODID:-//https://radiomemory.gr///NONSGML kigkonsult.se iCalcreator 2.10.15//
METHOD:PUBLISH
BEGIN:VEVENT
UID:20260421T183515UTC-1891OSpv0v@https://radiomemory.gr/
DTSTAMP:20260421T183515Z
DESCRIPTION: https://radiomemory.gr/events/imerologio-ekdiloseon/event/1847
 -2o-circus-street-food-festival
DTSTART:20240310T090000Z
DTEND:20240310T210000Z
LOCATION:Σπερχειάδα Φθιώτιδας (Ευζώνων\, Σπερχειάδα 350 03\, Ελλάδα)
SUMMARY:2ο Circus Street Food Festival
URL:https://radiomemory.gr/events/imerologio-ekdiloseon/event/1847-2o-circu
 s-street-food-festival
END:VEVENT
END:VCALENDAR
