BEGIN:VCALENDAR
VERSION:2.0
PRODID:-//https://radiomemory.gr///NONSGML kigkonsult.se iCalcreator 2.10.15//
METHOD:PUBLISH
BEGIN:VEVENT
UID:20260421T183609UTC-6331biSgOa@https://radiomemory.gr/
DTSTAMP:20260421T183609Z
DESCRIPTION: https://radiomemory.gr/events/imerologio-ekdiloseon/event/1845
 -66o-karnavali-makrakomis
DTSTART:20240316T190000Z
DTEND:20240316T213000Z
LOCATION:Μακρακώμη Φθιώτιδας (E952\, Μακρακώμη 350 11\, Ελλάδα)
SUMMARY:66ο Καρναβάλι Μακρακώμης
URL:https://radiomemory.gr/events/imerologio-ekdiloseon/event/1845-66o-karn
 avali-makrakomis
END:VEVENT
BEGIN:VEVENT
UID:20260421T183609UTC-6333H6sHwE@https://radiomemory.gr/
DTSTAMP:20260421T183609Z
DESCRIPTION: https://radiomemory.gr/events/imerologio-ekdiloseon/event/1846
 -karnavali-sperxeiadas-2024
DTSTART:20240317T170000Z
DTEND:20240317T210000Z
LOCATION:Σπερχειάδα Φθιώτιδας (Ευζώνων\, Σπερχειάδα 350 03\, Ελλάδα)
SUMMARY:Καρναβάλι Σπερχειάδας 2024
URL:https://radiomemory.gr/events/imerologio-ekdiloseon/event/1846-karnaval
 i-sperxeiadas-2024
END:VEVENT
END:VCALENDAR
