BEGIN:VCALENDAR
VERSION:2.0
PRODID:-//https://radiomemory.gr///NONSGML kigkonsult.se iCalcreator 2.10.15//
METHOD:PUBLISH
BEGIN:VEVENT
UID:20260421T165244UTC-7900VFhCHm@https://radiomemory.gr/
DTSTAMP:20260421T165244Z
DESCRIPTION: https://radiomemory.gr/events/imerologio-ekdiloseon/event/1849
 -4i-anthokomiki-ekthesi-sperxeiadas
DTSTART:20240422T070000Z
DTEND:20240422T170000Z
LOCATION:Σπερχειάδα Φθιώτιδας (Ευζώνων\, Σπερχειάδα 350 03\, Ελλάδα)
SUMMARY:4η Ανθοκομική 'Εκθεση Σπερχειάδας
URL:https://radiomemory.gr/events/imerologio-ekdiloseon/event/1849-4i-antho
 komiki-ekthesi-sperxeiadas
END:VEVENT
BEGIN:VEVENT
UID:20260421T165244UTC-7902SwVExV@https://radiomemory.gr/
DTSTAMP:20260421T165244Z
DESCRIPTION: https://radiomemory.gr/events/imerologio-ekdiloseon/event/1850
 -pasxaliatiki-filanthropiki-agora
DTSTART:20240427T060000Z
DTEND:20240427T113000Z
LOCATION:Πλατεία Πάρκου Λαμία (Πλατεία Πάρκου 19\, Λαμία 351 00\, Ελλάδα)
SUMMARY:Πασχαλιάτικη Φιλανθρωπική Αγορά
URL:https://radiomemory.gr/events/imerologio-ekdiloseon/event/1850-pasxalia
 tiki-filanthropiki-agora
END:VEVENT
END:VCALENDAR
