BEGIN:VCALENDAR
VERSION:2.0
PRODID:-//https://radiomemory.gr///NONSGML kigkonsult.se iCalcreator 2.10.15//
METHOD:PUBLISH
BEGIN:VEVENT
UID:20260421T233903UTC-7925Fvxksd@https://radiomemory.gr/
DTSTAMP:20260421T233903Z
DESCRIPTION: https://radiomemory.gr/events/imerologio-ekdiloseon/event/1834
 -xristougenniatiki-filanthropiki-agora-dora-psyxis
DTSTART:20231210T080000Z
DTEND:20231210T200000Z
LOCATION:Κτήμα Πασιάκου (Εθνική Οδός Λαμίας Καρπενησίου\, Λαμία 351 00\, Ελ
 λάδα)
SUMMARY:Χριστουγεννιάτικη Φιλανθρωπική Αγορά 'ΔΩΡΑ ΨΥΧΗΣ'
URL:https://radiomemory.gr/events/imerologio-ekdiloseon/event/1834-xristoug
 enniatiki-filanthropiki-agora-dora-psyxis
END:VEVENT
BEGIN:VEVENT
UID:20260421T233903UTC-79265llhwD@https://radiomemory.gr/
DTSTAMP:20260421T233903Z
DESCRIPTION: https://radiomemory.gr/events/imerologio-ekdiloseon/event/1838
 -fotagogisi-tou-xristougenniatikou-dentrou-kai-synavlia-me-ti-josephine
DTSTART:20231205T180000Z
DTEND:20231205T210000Z
LOCATION:Πλατεία Πάρκου ()
SUMMARY:Φωταγώγηση του Χριστουγεννιάτικου Δέντρου και Συναυλία με τη Joseph
 ine
URL:https://radiomemory.gr/events/imerologio-ekdiloseon/event/1838-fotagogi
 si-tou-xristougenniatikou-dentrou-kai-synavlia-me-ti-josephine
END:VEVENT
BEGIN:VEVENT
UID:20260421T233903UTC-7927GPALrV@https://radiomemory.gr/
DTSTAMP:20260421T233903Z
DESCRIPTION: https://radiomemory.gr/events/imerologio-ekdiloseon/event/1839
 -annama-xristougenniatikou-dentrou-ston-domoko
DTSTART:20231210T160000Z
DTEND:20231210T200000Z
LOCATION:Δομοκός Φθιώτιδας (Unnamed Road\, Δομοκός 350 10\, Ελλάδα)
SUMMARY:Άνναμα Χριστουγεννιάτικου Δέντρου στον Δομοκό
URL:https://radiomemory.gr/events/imerologio-ekdiloseon/event/1839-annama-x
 ristougenniatikou-dentrou-ston-domoko
END:VEVENT
END:VCALENDAR
