BEGIN:VCALENDAR
VERSION:2.0
PRODID:-//https://radiomemory.gr///NONSGML kigkonsult.se iCalcreator 2.10.15//
METHOD:PUBLISH
BEGIN:VEVENT
UID:20260421T233921UTC-3308gPKcEi@https://radiomemory.gr/
DTSTAMP:20260421T233921Z
DESCRIPTION: https://radiomemory.gr/events/imerologio-ekdiloseon/event/1829
 -esperida-me-thema-via-kai-ethismos-ton-paidion-sta-diadiktyaka-ilektronik
 a-paixnidia
DTSTART:20231216T160000Z
DTEND:20231216T190000Z
LOCATION:Σπερχειάδα Φθιώτιδας (Ευζώνων\, Σπερχειάδα 350 03\, Ελλάδα)
SUMMARY:Εσπερίδα με θέμα:«ΒΙΑ και εθισμός των παιδιών στα διαδικτυακά\, ηλε
 κτρονικά παιχνίδια»
URL:https://radiomemory.gr/events/imerologio-ekdiloseon/event/1829-esperida
 -me-thema-via-kai-ethismos-ton-paidion-sta-diadiktyaka-ilektronika-paixnid
 ia
END:VEVENT
BEGIN:VEVENT
UID:20260421T233921UTC-3309vxI3uF@https://radiomemory.gr/
DTSTAMP:20260421T233921Z
DESCRIPTION: https://radiomemory.gr/events/imerologio-ekdiloseon/event/1837
 -filikos-podosfairikos-agonas
DTSTART:20231211T090000Z
DTEND:20231211T110000Z
LOCATION:Μακρακώμη Φθιώτιδας (E952\, Μακρακώμη 350 11\, Ελλάδα)
SUMMARY:Φιλικός Ποδοσφαιρικός Αγώνας
URL:https://radiomemory.gr/events/imerologio-ekdiloseon/event/1837-filikos-
 podosfairikos-agonas
END:VEVENT
BEGIN:VEVENT
UID:20260421T233921UTC-3310IsRODj@https://radiomemory.gr/
DTSTAMP:20260421T233921Z
DESCRIPTION: https://radiomemory.gr/events/imerologio-ekdiloseon/event/1840
 -annama-xristougenniatikou-dentrou-sto-neoxori-ypatis
DTSTART:20231216T180000Z
DTEND:20231216T210000Z
LOCATION:Νεοχώρι Υπάτης (Νεοχώρι 350 16\, Ελλάδα)
SUMMARY:Άνναμα Χριστουγεννιάτικου Δέντρου στο Νεοχώρι Υπάτης
URL:https://radiomemory.gr/events/imerologio-ekdiloseon/event/1840-annama-x
 ristougenniatikou-dentrou-sto-neoxori-ypatis
END:VEVENT
BEGIN:VEVENT
UID:20260421T233921UTC-3311uTJikv@https://radiomemory.gr/
DTSTAMP:20260421T233921Z
DESCRIPTION: https://radiomemory.gr/events/imerologio-ekdiloseon/event/1841
 -glykoxora-sperxeiadas
DTSTART:20231217T080000Z
DTEND:20231217T180000Z
LOCATION:Σπερχειάδα Φθιώτιδας (Ευζώνων\, Σπερχειάδα 350 03\, Ελλάδα)
SUMMARY:Γλυκοχώρα Σπερχειάδας
URL:https://radiomemory.gr/events/imerologio-ekdiloseon/event/1841-glykoxor
 a-sperxeiadas
END:VEVENT
END:VCALENDAR
