BEGIN:VCALENDAR
VERSION:2.0
PRODID:-//https://radiomemory.gr///NONSGML kigkonsult.se iCalcreator 2.10.15//
METHOD:PUBLISH
BEGIN:VEVENT
UID:20260421T233921UTC-8482EzkiFo@https://radiomemory.gr/
DTSTAMP:20260421T233921Z
DESCRIPTION: https://radiomemory.gr/events/imerologio-ekdiloseon/event/1842
 -xristougenniatikes-ekdiloseis-koinotitas-makrakomis
DTSTART:20231230T193000Z
DTEND:20231230T213000Z
LOCATION:Μακρακώμη Φθιώτιδας (E952\, Μακρακώμη 350 11\, Ελλάδα)
SUMMARY:Χριστουγεννιάτικες Εκδηλώσεις Κοινότητας Μακρακώμης
URL:https://radiomemory.gr/events/imerologio-ekdiloseon/event/1842-xristoug
 enniatikes-ekdiloseis-koinotitas-makrakomis
END:VEVENT
END:VCALENDAR
